BEGIN:VCALENDAR
VERSION:2.0
PRODID:-//RIGHTHERE//CALENDARIZE IT V3.2//EN
BEGIN:VTIMEZONE
TZID:Europe/Berlin
X-MICROSOFT-CDO-TZID:4
BEGIN:STANDARD
DTSTART:20251026T010000
TZOFFSETFROM:+0200
TZOFFSETTO:+0100
TZNAME:CET
END:STANDARD
BEGIN:DAYLIGHT
DTSTART:20260329T010000
TZOFFSETFROM:+0100
TZOFFSETTO:+0200
TZNAME:CEST
END:DAYLIGHT
BEGIN:STANDARD
DTSTART:20261025T010000
TZOFFSETFROM:+0200
TZOFFSETTO:+0100
TZNAME:CET
END:STANDARD
END:VTIMEZONE
BEGIN:VEVENT
UID:4050-events@umsetzer.com
DTSTART;TZID=Europe/Berlin:20200917T090000
DTEND;TZID=Europe/Berlin:20200918T163000
DTSTAMP;TZID=Europe/Berlin:20190425T172943
SUMMARY:6. LPA Anwendertreffen in Friedrichshafen
URL:https://umsetzer.com/veranstaltung/6-lpa-anwendertreffen-in-friedrichsh
 afen/
ORGANIZER;CN=Dipl.-Ing. (FH) Elmar Zeller\, MBA:MAILTO:elmar.zeller@tqu.com
LOCATION:Hotel Krone
END:VEVENT
END:VCALENDAR